BEGIN:VCALENDAR
VERSION:2.0
PRODID:-//Auburn South Primary School - ECPv4.6.2//NONSGML v1.0//EN
CALSCALE:GREGORIAN
METHOD:PUBLISH
X-WR-CALNAME:Auburn South Primary School
X-ORIGINAL-URL:http://www.auburnsthps.vic.edu.au
X-WR-CALDESC:Events for Auburn South Primary School
BEGIN:VEVENT
DTSTART;VALUE=DATE:20200130
DTEND;VALUE=DATE:20200131
DTSTAMP:20200229T035447
CREATED:20191217T031123Z
LAST-MODIFIED:20191217T031123Z
UID:3472-1580342400-1580428799@www.auburnsthps.vic.edu.au
SUMMARY:First Day Term 1 (Year 1-6)
DESCRIPTION:
URL:http://www.auburnsthps.vic.edu.au/event/first-day-term-1-year-1-6-2/
END:VEVENT
END:VCALENDAR