BEGIN:VCALENDAR
VERSION:2.0
PRODID:-//Auburn South Primary School - ECPv4.6.2//NONSGML v1.0//EN
CALSCALE:GREGORIAN
METHOD:PUBLISH
X-WR-CALNAME:Auburn South Primary School
X-ORIGINAL-URL:http://www.auburnsthps.vic.edu.au
X-WR-CALDESC:Events for Auburn South Primary School
BEGIN:VEVENT
DTSTART;VALUE=DATE:20200131
DTEND;VALUE=DATE:20200201
DTSTAMP:20200229T035559
CREATED:20191217T031159Z
LAST-MODIFIED:20191217T031159Z
UID:3474-1580428800-1580515199@www.auburnsthps.vic.edu.au
SUMMARY:First Day Term 1 (Prep Students)
DESCRIPTION:
URL:http://www.auburnsthps.vic.edu.au/event/first-day-term-1-prep-students/
END:VEVENT
END:VCALENDAR